Package: gpart Version: 1.10.0 Command: /Library/Frameworks/R.framework/Versions/Current/Resources/bin/R CMD check --install=check:gpart.install-out.txt --library=/Library/Frameworks/R.framework/Versions/Current/Resources/library --no-vignettes --timings gpart_1.10.0.tar.gz StartedAt: 2021-10-14 19:44:08 -0400 (Thu, 14 Oct 2021) EndedAt: 2021-10-14 19:49:10 -0400 (Thu, 14 Oct 2021) EllapsedTime: 301.9 seconds RetCode: 0 Status: OK CheckDir: gpart.Rcheck Warnings: 0