Package: gramm4R Version: 1.6.0 Command: chmod a+r gramm4R -R && C:\Users\biocbuild\bbs-3.13-bioc\R\bin\R.exe CMD build --keep-empty-dirs --no-resave-data gramm4R StartedAt: 2021-10-14 14:39:00 -0400 (Thu, 14 Oct 2021) EndedAt: 2021-10-14 14:39:08 -0400 (Thu, 14 Oct 2021) EllapsedTime: 8.3 seconds RetCode: 1 Status: ERROR PackageFile: gramm4R_1.6.0.tar.gz PackageFileSize: 11.56 KiB