Package: gramm4R Version: 1.6.0 Command: C:\cygwin\bin\curl.exe -O http://155.52.207.165/BBS/3.13/bioc/src/contrib/gramm4R_1.6.0.tar.gz && rm -rf gramm4R.buildbin-libdir && mkdir gramm4R.buildbin-libdir && C:\Users\biocbuild\bbs-3.13-bioc\R\bin\R.exe CMD INSTALL --merge-multiarch --build --library=gramm4R.buildbin-libdir gramm4R_1.6.0.tar.gz && C:\Users\biocbuild\bbs-3.13-bioc\R\bin\R.exe CMD INSTALL gramm4R_1.6.0.zip && rm gramm4R_1.6.0.tar.gz gramm4R_1.6.0.zip StartedAt: 2021-10-14 11:29:25 -0400 (Thu, 14 Oct 2021) EndedAt: 2021-10-14 11:29:26 -0400 (Thu, 14 Oct 2021) EllapsedTime: 1.3 seconds RetCode: 1 Status: ERROR