Package: gscreend Version: 1.6.0 Command: /Library/Frameworks/R.framework/Versions/Current/Resources/bin/R CMD build --keep-empty-dirs --no-resave-data gscreend StartedAt: 2021-10-14 12:28:12 -0400 (Thu, 14 Oct 2021) EndedAt: 2021-10-14 12:41:40 -0400 (Thu, 14 Oct 2021) EllapsedTime: 808.1 seconds RetCode: 0 Status: OK PackageFile: gscreend_1.6.0.tar.gz PackageFileSize: 3.111 MiB