Package: gsean Version: 1.12.0 Command: /Library/Frameworks/R.framework/Versions/Current/Resources/bin/R CMD build --keep-empty-dirs --no-resave-data gsean StartedAt: 2021-10-14 12:29:04 -0400 (Thu, 14 Oct 2021) EndedAt: 2021-10-14 12:30:38 -0400 (Thu, 14 Oct 2021) EllapsedTime: 93.9 seconds RetCode: 0 Status: OK PackageFile: gsean_1.12.0.tar.gz PackageFileSize: 1.511 MiB