git_url: https://git.bioconductor.org/packages/gtrellis git_branch: RELEASE_3_13 git_last_commit: d92f3f7 git_last_commit_date: 2021-05-19 12:12:13 -0400 (Wed, 19 May 2021) Package: gtrellis Version: 1.24.0 Maintainer: Zuguang Gu MaintainerEmail: z.gu at dkfz.de