Package: gwasurvivr Version: 1.10.0 Command: rm -rf gwasurvivr.buildbin-libdir && mkdir gwasurvivr.buildbin-libdir && /Users/biocbuild/BBS/utils/build-universal.sh gwasurvivr_1.10.0.tar.gz /Library/Frameworks/R.framework/Versions/Current/Resources/bin/R gwasurvivr.buildbin-libdir StartedAt: 2021-10-15 02:41:18 -0400 (Fri, 15 Oct 2021) EndedAt: 2021-10-15 02:42:25 -0400 (Fri, 15 Oct 2021) EllapsedTime: 67.0 seconds RetCode: 0 Status: OK PackageFile: gwasurvivr_1.10.0.tgz PackageFileSize: 394.4 KiB