Package: gwasurvivr Version: 1.10.0 Command: /home/biocbuild/bbs-3.13-bioc/R/bin/R CMD check --install=check:gwasurvivr.install-out.txt --library=/home/biocbuild/bbs-3.13-bioc/R/library --no-vignettes --timings gwasurvivr_1.10.0.tar.gz StartedAt: 2021-10-14 10:08:01 -0400 (Thu, 14 Oct 2021) EndedAt: 2021-10-14 10:14:16 -0400 (Thu, 14 Oct 2021) EllapsedTime: 375.4 seconds RetCode: 0 Status: OK CheckDir: gwasurvivr.Rcheck Warnings: 0