Package: gwasurvivr Version: 1.10.0 Command: chmod a+r gwasurvivr -R && C:\Users\biocbuild\bbs-3.13-bioc\R\bin\R.exe CMD build --keep-empty-dirs --no-resave-data gwasurvivr StartedAt: 2021-10-14 14:46:59 -0400 (Thu, 14 Oct 2021) EndedAt: 2021-10-14 14:50:21 -0400 (Thu, 14 Oct 2021) EllapsedTime: 201.9 seconds RetCode: 0 Status: OK PackageFile: gwasurvivr_1.10.0.tar.gz PackageFileSize: 329.7 KiB