Package: hapFabia Version: 1.34.0 Command: rm -rf hapFabia.buildbin-libdir && mkdir hapFabia.buildbin-libdir && /Users/biocbuild/BBS/utils/build-universal.sh hapFabia_1.34.0.tar.gz /Library/Frameworks/R.framework/Versions/Current/Resources/bin/R hapFabia.buildbin-libdir StartedAt: 2021-10-15 02:41:35 -0400 (Fri, 15 Oct 2021) EndedAt: 2021-10-15 02:42:41 -0400 (Fri, 15 Oct 2021) EllapsedTime: 66.6 seconds RetCode: 0 Status: OK PackageFile: hapFabia_1.34.0.tgz PackageFileSize: 1.752 MiB