Package: hca Version: 1.0.3 Command: /Library/Frameworks/R.framework/Versions/Current/Resources/bin/R CMD build --keep-empty-dirs --no-resave-data hca StartedAt: 2021-10-14 12:33:02 -0400 (Thu, 14 Oct 2021) EndedAt: 2021-10-14 12:34:25 -0400 (Thu, 14 Oct 2021) EllapsedTime: 82.7 seconds RetCode: 0 Status: OK PackageFile: hca_1.0.3.tar.gz PackageFileSize: 261.1 KiB