Package: hca Version: 1.0.3 Command: /home/biocbuild/bbs-3.13-bioc/R/bin/R CMD check --install=check:hca.install-out.txt --library=/home/biocbuild/bbs-3.13-bioc/R/library --no-vignettes --timings hca_1.0.3.tar.gz StartedAt: 2021-10-14 10:08:57 -0400 (Thu, 14 Oct 2021) EndedAt: 2021-10-14 10:11:24 -0400 (Thu, 14 Oct 2021) EllapsedTime: 146.6 seconds RetCode: 0 Status: OK CheckDir: hca.Rcheck Warnings: 0