Package: hca Version: 1.0.3 Command: /home/biocbuild/bbs-3.13-bioc/R/bin/R CMD INSTALL hca StartedAt: 2021-10-14 06:20:10 -0400 (Thu, 14 Oct 2021) EndedAt: 2021-10-14 06:20:14 -0400 (Thu, 14 Oct 2021) EllapsedTime: 4.7 seconds RetCode: 0 Status: OK