Package: hca Version: 1.0.3 Command: chmod a+r hca -R && C:\Users\biocbuild\bbs-3.13-bioc\R\bin\R.exe CMD build --keep-empty-dirs --no-resave-data hca StartedAt: 2021-10-14 14:49:38 -0400 (Thu, 14 Oct 2021) EndedAt: 2021-10-14 14:51:15 -0400 (Thu, 14 Oct 2021) EllapsedTime: 96.4 seconds RetCode: 0 Status: OK PackageFile: hca_1.0.3.tar.gz PackageFileSize: 261.6 KiB