Package: hca Version: 1.0.3 Command: C:\Users\biocbuild\bbs-3.13-bioc\R\bin\R.exe CMD check --force-multiarch --install=check:hca.install-out.txt --library=C:\Users\biocbuild\bbs-3.13-bioc\R\library --no-vignettes --timings hca_1.0.3.tar.gz StartedAt: 2021-10-15 00:16:54 -0400 (Fri, 15 Oct 2021) EndedAt: 2021-10-15 00:21:04 -0400 (Fri, 15 Oct 2021) EllapsedTime: 249.6 seconds RetCode: 0 Status: OK CheckDir: hca.Rcheck Warnings: 0