Package: hca Version: 1.0.3 Command: C:\cygwin\bin\curl.exe -O http://155.52.207.165/BBS/3.13/bioc/src/contrib/hca_1.0.3.tar.gz && rm -rf hca.buildbin-libdir && mkdir hca.buildbin-libdir && C:\Users\biocbuild\bbs-3.13-bioc\R\bin\R.exe CMD INSTALL --merge-multiarch --build --library=hca.buildbin-libdir hca_1.0.3.tar.gz && C:\Users\biocbuild\bbs-3.13-bioc\R\bin\R.exe CMD INSTALL hca_1.0.3.zip && rm hca_1.0.3.tar.gz hca_1.0.3.zip StartedAt: 2021-10-14 09:52:03 -0400 (Thu, 14 Oct 2021) EndedAt: 2021-10-14 09:52:30 -0400 (Thu, 14 Oct 2021) EllapsedTime: 26.9 seconds RetCode: 0 Status: OK