git_url: https://git.bioconductor.org/packages/hierGWAS git_branch: RELEASE_3_13 git_last_commit: 9d27218 git_last_commit_date: 2021-05-19 12:14:05 -0400 (Wed, 19 May 2021) Package: hierGWAS Version: 1.22.0 Maintainer: Laura Buzdugan MaintainerEmail: buzdugan at stat.math.ethz.ch