Package: hierGWAS Version: 1.22.0 Command: rm -rf hierGWAS.buildbin-libdir && mkdir hierGWAS.buildbin-libdir && C:\Users\biocbuild\bbs-3.13-bioc\R\bin\R.exe CMD INSTALL --merge-multiarch --build --library=hierGWAS.buildbin-libdir hierGWAS_1.22.0.tar.gz StartedAt: 2021-10-15 09:48:00 -0400 (Fri, 15 Oct 2021) EndedAt: 2021-10-15 09:49:31 -0400 (Fri, 15 Oct 2021) EllapsedTime: 91.2 seconds RetCode: 0 Status: OK PackageFile: hierGWAS_1.22.0.zip PackageFileSize: 458.6 KiB