Package: hierGWAS Version: 1.22.0 Command: chmod a+r hierGWAS -R && C:\Users\biocbuild\bbs-3.13-bioc\R\bin\R.exe CMD build --keep-empty-dirs --no-resave-data hierGWAS StartedAt: 2021-10-14 14:53:05 -0400 (Thu, 14 Oct 2021) EndedAt: 2021-10-14 14:54:54 -0400 (Thu, 14 Oct 2021) EllapsedTime: 108.5 seconds RetCode: 0 Status: OK PackageFile: hierGWAS_1.22.0.tar.gz PackageFileSize: 468 KiB