Package: hierGWAS Version: 1.22.0 Command: C:\cygwin\bin\curl.exe -O http://155.52.207.165/BBS/3.13/bioc/src/contrib/hierGWAS_1.22.0.tar.gz && rm -rf hierGWAS.buildbin-libdir && mkdir hierGWAS.buildbin-libdir && C:\Users\biocbuild\bbs-3.13-bioc\R\bin\R.exe CMD INSTALL --merge-multiarch --build --library=hierGWAS.buildbin-libdir hierGWAS_1.22.0.tar.gz && C:\Users\biocbuild\bbs-3.13-bioc\R\bin\R.exe CMD INSTALL hierGWAS_1.22.0.zip && rm hierGWAS_1.22.0.tar.gz hierGWAS_1.22.0.zip StartedAt: 2021-10-14 07:12:24 -0400 (Thu, 14 Oct 2021) EndedAt: 2021-10-14 07:13:38 -0400 (Thu, 14 Oct 2021) EllapsedTime: 73.5 seconds RetCode: 0 Status: OK