Package: hierinf Version: 1.10.0 Command: rm -rf hierinf.buildbin-libdir && mkdir hierinf.buildbin-libdir && /Users/biocbuild/BBS/utils/build-universal.sh hierinf_1.10.0.tar.gz /Library/Frameworks/R.framework/Versions/Current/Resources/bin/R hierinf.buildbin-libdir StartedAt: 2021-10-15 02:43:08 -0400 (Fri, 15 Oct 2021) EndedAt: 2021-10-15 02:44:19 -0400 (Fri, 15 Oct 2021) EllapsedTime: 70.9 seconds RetCode: 0 Status: OK PackageFile: hierinf_1.10.0.tgz PackageFileSize: 481.7 KiB