Package: hierinf Version: 1.10.0 Command: chmod a+r hierinf -R && C:\Users\biocbuild\bbs-3.13-bioc\R\bin\R.exe CMD build --keep-empty-dirs --no-resave-data hierinf StartedAt: 2021-10-14 14:53:17 -0400 (Thu, 14 Oct 2021) EndedAt: 2021-10-14 14:55:07 -0400 (Thu, 14 Oct 2021) EllapsedTime: 109.4 seconds RetCode: 0 Status: OK PackageFile: hierinf_1.10.0.tar.gz PackageFileSize: 423.1 KiB