git_url: https://git.bioconductor.org/packages/hmdbQuery git_branch: RELEASE_3_13 git_last_commit: c26d2ce git_last_commit_date: 2021-07-28 17:03:44 -0400 (Wed, 28 Jul 2021) Package: hmdbQuery Version: 1.12.1 Maintainer: VJ Carey MaintainerEmail: stvjc at channing.harvard.edu