Package: hmdbQuery Version: 1.12.1 Command: rm -rf hmdbQuery.buildbin-libdir && mkdir hmdbQuery.buildbin-libdir && C:\Users\biocbuild\bbs-3.13-bioc\R\bin\R.exe CMD INSTALL --merge-multiarch --build --library=hmdbQuery.buildbin-libdir hmdbQuery_1.12.1.tar.gz StartedAt: 2021-10-15 09:49:14 -0400 (Fri, 15 Oct 2021) EndedAt: 2021-10-15 09:50:47 -0400 (Fri, 15 Oct 2021) EllapsedTime: 92.6 seconds RetCode: 0 Status: OK PackageFile: hmdbQuery_1.12.1.zip PackageFileSize: 890.8 KiB