git_url: https://git.bioconductor.org/packages/hummingbird git_branch: RELEASE_3_13 git_last_commit: 1d22c8a git_last_commit_date: 2021-05-19 12:54:26 -0400 (Wed, 19 May 2021) Package: hummingbird Version: 1.2.0 Maintainer: Eleni Adam MaintainerEmail: eadam002 at odu.edu