Package: hummingbird Version: 1.2.0 Command: chmod a+r hummingbird -R && C:\Users\biocbuild\bbs-3.13-bioc\R\bin\R.exe CMD build --keep-empty-dirs --no-resave-data hummingbird StartedAt: 2021-10-14 14:57:37 -0400 (Thu, 14 Oct 2021) EndedAt: 2021-10-14 14:58:25 -0400 (Thu, 14 Oct 2021) EllapsedTime: 48.5 seconds RetCode: 0 Status: OK PackageFile: hummingbird_1.2.0.tar.gz PackageFileSize: 401.7 KiB