Package: hummingbird Version: 1.2.0 Command: C:\cygwin\bin\curl.exe -O http://155.52.207.165/BBS/3.13/bioc/src/contrib/hummingbird_1.2.0.tar.gz && rm -rf hummingbird.buildbin-libdir && mkdir hummingbird.buildbin-libdir && C:\Users\biocbuild\bbs-3.13-bioc\R\bin\R.exe CMD INSTALL --merge-multiarch --build --library=hummingbird.buildbin-libdir hummingbird_1.2.0.tar.gz && C:\Users\biocbuild\bbs-3.13-bioc\R\bin\R.exe CMD INSTALL hummingbird_1.2.0.zip && rm hummingbird_1.2.0.tar.gz hummingbird_1.2.0.zip StartedAt: 2021-10-14 08:53:15 -0400 (Thu, 14 Oct 2021) EndedAt: 2021-10-14 08:54:34 -0400 (Thu, 14 Oct 2021) EllapsedTime: 79.0 seconds RetCode: 0 Status: OK