Package: hypeR Version: 1.8.0 Command: /home/biocbuild/bbs-3.13-bioc/R/bin/R CMD build --keep-empty-dirs --no-resave-data hypeR StartedAt: 2021-10-14 07:29:52 -0400 (Thu, 14 Oct 2021) EndedAt: 2021-10-14 07:30:06 -0400 (Thu, 14 Oct 2021) EllapsedTime: 14.1 seconds RetCode: 0 Status: OK PackageFile: hypeR_1.8.0.tar.gz PackageFileSize: 308.7 KiB