Package: hypeR Version: 1.8.0 Command: /home/biocbuild/bbs-3.13-bioc/R/bin/R CMD check --install=check:hypeR.install-out.txt --library=/home/biocbuild/bbs-3.13-bioc/R/library --no-vignettes --timings hypeR_1.8.0.tar.gz StartedAt: 2021-10-14 10:13:07 -0400 (Thu, 14 Oct 2021) EndedAt: 2021-10-14 10:15:34 -0400 (Thu, 14 Oct 2021) EllapsedTime: 146.8 seconds RetCode: 1 Status: ERROR CheckDir: hypeR.Rcheck Warnings: NA