Package: hypeR Version: 1.8.0 Command: C:\cygwin\bin\curl.exe -O http://155.52.207.165/BBS/3.13/bioc/src/contrib/hypeR_1.8.0.tar.gz && rm -rf hypeR.buildbin-libdir && mkdir hypeR.buildbin-libdir && C:\Users\biocbuild\bbs-3.13-bioc\R\bin\R.exe CMD INSTALL --merge-multiarch --build --library=hypeR.buildbin-libdir hypeR_1.8.0.tar.gz && C:\Users\biocbuild\bbs-3.13-bioc\R\bin\R.exe CMD INSTALL hypeR_1.8.0.zip && rm hypeR_1.8.0.tar.gz hypeR_1.8.0.zip StartedAt: 2021-10-14 09:34:57 -0400 (Thu, 14 Oct 2021) EndedAt: 2021-10-14 09:35:52 -0400 (Thu, 14 Oct 2021) EllapsedTime: 55.2 seconds RetCode: 0 Status: OK