Package: iBBiG Version: 1.36.0 Command: /Library/Frameworks/R.framework/Versions/Current/Resources/bin/R CMD check --install=check:iBBiG.install-out.txt --library=/Library/Frameworks/R.framework/Versions/Current/Resources/library --no-vignettes --timings iBBiG_1.36.0.tar.gz StartedAt: 2021-10-14 20:05:55 -0400 (Thu, 14 Oct 2021) EndedAt: 2021-10-14 20:08:06 -0400 (Thu, 14 Oct 2021) EllapsedTime: 131.3 seconds RetCode: 0 Status: OK CheckDir: iBBiG.Rcheck Warnings: 0