Package: iBBiG Version: 1.36.0 Command: /home/biocbuild/bbs-3.13-bioc/R/bin/R CMD build --keep-empty-dirs --no-resave-data iBBiG StartedAt: 2021-10-14 07:30:09 -0400 (Thu, 14 Oct 2021) EndedAt: 2021-10-14 07:30:38 -0400 (Thu, 14 Oct 2021) EllapsedTime: 28.8 seconds RetCode: 0 Status: OK PackageFile: iBBiG_1.36.0.tar.gz PackageFileSize: 914.7 KiB