Package: iBBiG Version: 1.36.0 Command: C:\cygwin\bin\curl.exe -O http://155.52.207.165/BBS/3.13/bioc/src/contrib/iBBiG_1.36.0.tar.gz && rm -rf iBBiG.buildbin-libdir && mkdir iBBiG.buildbin-libdir && C:\Users\biocbuild\bbs-3.13-bioc\R\bin\R.exe CMD INSTALL --merge-multiarch --build --library=iBBiG.buildbin-libdir iBBiG_1.36.0.tar.gz && C:\Users\biocbuild\bbs-3.13-bioc\R\bin\R.exe CMD INSTALL iBBiG_1.36.0.zip && rm iBBiG_1.36.0.tar.gz iBBiG_1.36.0.zip StartedAt: 2021-10-14 09:29:34 -0400 (Thu, 14 Oct 2021) EndedAt: 2021-10-14 09:30:10 -0400 (Thu, 14 Oct 2021) EllapsedTime: 35.4 seconds RetCode: 0 Status: OK