Package: iChip Version: 1.46.0 Command: /Library/Frameworks/R.framework/Versions/Current/Resources/bin/R CMD check --install=check:iChip.install-out.txt --library=/Library/Frameworks/R.framework/Versions/Current/Resources/library --no-vignettes --timings iChip_1.46.0.tar.gz StartedAt: 2021-10-14 20:06:35 -0400 (Thu, 14 Oct 2021) EndedAt: 2021-10-14 20:07:17 -0400 (Thu, 14 Oct 2021) EllapsedTime: 42.3 seconds RetCode: 0 Status: OK CheckDir: iChip.Rcheck Warnings: 0