git_url: https://git.bioconductor.org/packages/iGC git_branch: RELEASE_3_13 git_last_commit: ea783bb git_last_commit_date: 2021-05-19 12:15:24 -0400 (Wed, 19 May 2021) Package: iGC Version: 1.22.0 Maintainer: Liang-Bo Wang MaintainerEmail: r02945054 at ntu.edu.tw