Package: iGC Version: 1.22.0 Command: /home/biocbuild/bbs-3.13-bioc/R/bin/R CMD check --install=check:iGC.install-out.txt --library=/home/biocbuild/bbs-3.13-bioc/R/library --no-vignettes --timings iGC_1.22.0.tar.gz StartedAt: 2021-10-14 10:14:34 -0400 (Thu, 14 Oct 2021) EndedAt: 2021-10-14 10:15:00 -0400 (Thu, 14 Oct 2021) EllapsedTime: 26.3 seconds RetCode: 0 Status: OK CheckDir: iGC.Rcheck Warnings: 0