Package: iGC Version: 1.22.0 Command: rm -rf iGC.buildbin-libdir && mkdir iGC.buildbin-libdir && C:\Users\biocbuild\bbs-3.13-bioc\R\bin\R.exe CMD INSTALL --merge-multiarch --build --library=iGC.buildbin-libdir iGC_1.22.0.tar.gz StartedAt: 2021-10-15 09:53:39 -0400 (Fri, 15 Oct 2021) EndedAt: 2021-10-15 09:55:13 -0400 (Fri, 15 Oct 2021) EllapsedTime: 94.0 seconds RetCode: 0 Status: OK PackageFile: iGC_1.22.0.zip PackageFileSize: 3.156 MiB