Package: iGC Version: 1.22.0 Command: chmod a+r iGC -R && C:\Users\biocbuild\bbs-3.13-bioc\R\bin\R.exe CMD build --keep-empty-dirs --no-resave-data iGC StartedAt: 2021-10-14 15:01:07 -0400 (Thu, 14 Oct 2021) EndedAt: 2021-10-14 15:02:21 -0400 (Thu, 14 Oct 2021) EllapsedTime: 73.3 seconds RetCode: 0 Status: OK PackageFile: iGC_1.22.0.tar.gz PackageFileSize: 2.949 MiB