Package: iGC Version: 1.22.0 Command: C:\Users\biocbuild\bbs-3.13-bioc\R\bin\R.exe CMD check --force-multiarch --install=check:iGC.install-out.txt --library=C:\Users\biocbuild\bbs-3.13-bioc\R\library --no-vignettes --timings iGC_1.22.0.tar.gz StartedAt: 2021-10-15 00:37:21 -0400 (Fri, 15 Oct 2021) EndedAt: 2021-10-15 00:38:25 -0400 (Fri, 15 Oct 2021) EllapsedTime: 64.8 seconds RetCode: 0 Status: OK CheckDir: iGC.Rcheck Warnings: 0