Package: iGC Version: 1.22.0 Command: C:\cygwin\bin\curl.exe -O http://155.52.207.165/BBS/3.13/bioc/src/contrib/iGC_1.22.0.tar.gz && rm -rf iGC.buildbin-libdir && mkdir iGC.buildbin-libdir && C:\Users\biocbuild\bbs-3.13-bioc\R\bin\R.exe CMD INSTALL --merge-multiarch --build --library=iGC.buildbin-libdir iGC_1.22.0.tar.gz && C:\Users\biocbuild\bbs-3.13-bioc\R\bin\R.exe CMD INSTALL iGC_1.22.0.zip && rm iGC_1.22.0.tar.gz iGC_1.22.0.zip StartedAt: 2021-10-14 07:03:57 -0400 (Thu, 14 Oct 2021) EndedAt: 2021-10-14 07:04:52 -0400 (Thu, 14 Oct 2021) EllapsedTime: 54.5 seconds RetCode: 0 Status: OK