Package: iSEEu Version: 1.4.0 Command: /home/biocbuild/bbs-3.13-bioc/R/bin/R CMD check --install=check:iSEEu.install-out.txt --library=/home/biocbuild/bbs-3.13-bioc/R/library --no-vignettes --timings iSEEu_1.4.0.tar.gz StartedAt: 2021-10-14 10:19:17 -0400 (Thu, 14 Oct 2021) EndedAt: 2021-10-14 10:25:20 -0400 (Thu, 14 Oct 2021) EllapsedTime: 363.0 seconds RetCode: 0 Status: WARNINGS CheckDir: iSEEu.Rcheck Warnings: 1