git_url: https://git.bioconductor.org/packages/ibh git_branch: RELEASE_3_13 git_last_commit: e61603c git_last_commit_date: 2021-05-19 11:47:46 -0400 (Wed, 19 May 2021) Package: ibh Version: 1.40.0 Maintainer: Kircicegi Korkmaz MaintainerEmail: e102771 at ceng.metu.edu.tr