Package: ibh Version: 1.40.0 Command: C:\cygwin\bin\curl.exe -O http://155.52.207.165/BBS/3.13/bioc/src/contrib/ibh_1.40.0.tar.gz && rm -rf ibh.buildbin-libdir && mkdir ibh.buildbin-libdir && C:\Users\biocbuild\bbs-3.13-bioc\R\bin\R.exe CMD INSTALL --merge-multiarch --build --library=ibh.buildbin-libdir ibh_1.40.0.tar.gz && C:\Users\biocbuild\bbs-3.13-bioc\R\bin\R.exe CMD INSTALL ibh_1.40.0.zip && rm ibh_1.40.0.tar.gz ibh_1.40.0.zip StartedAt: 2021-10-14 07:10:17 -0400 (Thu, 14 Oct 2021) EndedAt: 2021-10-14 07:11:26 -0400 (Thu, 14 Oct 2021) EllapsedTime: 69.3 seconds RetCode: 0 Status: OK