Package: ideal Version: 1.16.1 Command: rm -rf ideal.buildbin-libdir && mkdir ideal.buildbin-libdir && /Users/biocbuild/BBS/utils/build-universal.sh ideal_1.16.1.tar.gz /Library/Frameworks/R.framework/Versions/Current/Resources/bin/R ideal.buildbin-libdir StartedAt: 2021-10-15 02:46:23 -0400 (Fri, 15 Oct 2021) EndedAt: 2021-10-15 02:47:32 -0400 (Fri, 15 Oct 2021) EllapsedTime: 69.1 seconds RetCode: 0 Status: OK PackageFile: ideal_1.16.1.tgz PackageFileSize: 3.165 MiB