Package: ideal Version: 1.16.1 Command: /Library/Frameworks/R.framework/Versions/Current/Resources/bin/R CMD INSTALL ideal StartedAt: 2021-10-14 10:26:34 -0400 (Thu, 14 Oct 2021) EndedAt: 2021-10-14 10:27:30 -0400 (Thu, 14 Oct 2021) EllapsedTime: 55.9 seconds RetCode: 0 Status: OK