Package: ideal Version: 1.16.1 Command: /home/biocbuild/bbs-3.13-bioc/R/bin/R CMD build --keep-empty-dirs --no-resave-data ideal StartedAt: 2021-10-14 07:30:25 -0400 (Thu, 14 Oct 2021) EndedAt: 2021-10-14 07:33:17 -0400 (Thu, 14 Oct 2021) EllapsedTime: 171.7 seconds RetCode: 0 Status: OK PackageFile: ideal_1.16.1.tar.gz PackageFileSize: 4.119 MiB