Package: ideal Version: 1.16.1 Command: /home/biocbuild/bbs-3.13-bioc/R/bin/R CMD check --install=check:ideal.install-out.txt --library=/home/biocbuild/bbs-3.13-bioc/R/library --no-vignettes --timings ideal_1.16.1.tar.gz StartedAt: 2021-10-14 10:14:13 -0400 (Thu, 14 Oct 2021) EndedAt: 2021-10-14 10:20:36 -0400 (Thu, 14 Oct 2021) EllapsedTime: 382.8 seconds RetCode: 0 Status: OK CheckDir: ideal.Rcheck Warnings: 0