Package: ideal Version: 1.16.1 Command: C:\cygwin\bin\curl.exe -O http://155.52.207.165/BBS/3.13/bioc/src/contrib/ideal_1.16.1.tar.gz && rm -rf ideal.buildbin-libdir && mkdir ideal.buildbin-libdir && C:\Users\biocbuild\bbs-3.13-bioc\R\bin\R.exe CMD INSTALL --merge-multiarch --build --library=ideal.buildbin-libdir ideal_1.16.1.tar.gz && C:\Users\biocbuild\bbs-3.13-bioc\R\bin\R.exe CMD INSTALL ideal_1.16.1.zip && rm ideal_1.16.1.tar.gz ideal_1.16.1.zip StartedAt: 2021-10-14 11:23:26 -0400 (Thu, 14 Oct 2021) EndedAt: 2021-10-14 11:25:05 -0400 (Thu, 14 Oct 2021) EllapsedTime: 98.7 seconds RetCode: 0 Status: OK