git_url: https://git.bioconductor.org/packages/idr2d git_branch: RELEASE_3_13 git_last_commit: df5b4c8 git_last_commit_date: 2021-05-19 12:46:03 -0400 (Wed, 19 May 2021) Package: idr2d Version: 1.6.0 Maintainer: Konstantin Krismer MaintainerEmail: krismer at mit.edu