Package: immunotation Version: 1.0.1 Command: /Library/Frameworks/R.framework/Versions/Current/Resources/bin/R CMD INSTALL immunotation StartedAt: 2021-10-14 09:39:54 -0400 (Thu, 14 Oct 2021) EndedAt: 2021-10-14 09:41:32 -0400 (Thu, 14 Oct 2021) EllapsedTime: 98.0 seconds RetCode: 0 Status: OK